BEGIN:VCALENDAR
VERSION:2.0
PRODID:-//De Imme - ECPv6.15.20//NONSGML v1.0//EN
CALSCALE:GREGORIAN
METHOD:PUBLISH
X-ORIGINAL-URL:https://www.weerribben.eu
X-WR-CALDESC:Evenementen voor De Imme
REFRESH-INTERVAL;VALUE=DURATION:PT1H
X-Robots-Tag:noindex
X-PUBLISHED-TTL:PT1H
BEGIN:VTIMEZONE
TZID:Europe/Amsterdam
BEGIN:DAYLIGHT
TZOFFSETFROM:+0100
TZOFFSETTO:+0200
TZNAME:CEST
DTSTART:20250330T010000
END:DAYLIGHT
BEGIN:STANDARD
TZOFFSETFROM:+0200
TZOFFSETTO:+0100
TZNAME:CET
DTSTART:20251026T010000
END:STANDARD
BEGIN:DAYLIGHT
TZOFFSETFROM:+0100
TZOFFSETTO:+0200
TZNAME:CEST
DTSTART:20260329T010000
END:DAYLIGHT
BEGIN:STANDARD
TZOFFSETFROM:+0200
TZOFFSETTO:+0100
TZNAME:CET
DTSTART:20261025T010000
END:STANDARD
BEGIN:DAYLIGHT
TZOFFSETFROM:+0100
TZOFFSETTO:+0200
TZNAME:CEST
DTSTART:20270328T010000
END:DAYLIGHT
BEGIN:STANDARD
TZOFFSETFROM:+0200
TZOFFSETTO:+0100
TZNAME:CET
DTSTART:20271031T010000
END:STANDARD
BEGIN:DAYLIGHT
TZOFFSETFROM:+0100
TZOFFSETTO:+0200
TZNAME:CEST
DTSTART:20280326T010000
END:DAYLIGHT
BEGIN:STANDARD
TZOFFSETFROM:+0200
TZOFFSETTO:+0100
TZNAME:CET
DTSTART:20281029T010000
END:STANDARD
END:VTIMEZONE
BEGIN:VEVENT
DTSTART;TZID=Europe/Amsterdam:20260422T193000
DTEND;TZID=Europe/Amsterdam:20260422T220000
DTSTAMP:20260422T133837
CREATED:20251104T174717Z
LAST-MODIFIED:20260331T140819Z
UID:17879-1776886200-1776895200@www.weerribben.eu
SUMMARY:Vaartocht naar Sterrenwacht de Weerribben
DESCRIPTION:Staatsbosbeheer organiseert i.s.m. Sterrenwacht de Weerribben een nieuw evenement: de Maantochten. Nieuwe maan\, eerste kwartier\, volle maan\, laatste kwartier. De maan – of althans het door de zon verlichte oppervlak ervan dat zichtbaar is vanaf de aarde – sterk verschilt van moment tot moment. Dat heeft alles te maken met de maancyclus en de daarbij behorende maanfasen. De beleving van een boottocht door de Weerribben is bij de verschillende maanfasen steeds weer anders.  \n\n\n\n\n\n\n\n\n\n\n\n\n\n\n\n\n\n\n\n\n\n\n\n\n\n\n\n\nLees meer\n\n\n\n\n\n\n\n\n\n\n\n\n\n\n\nBoeken bij Staatsbosbeheer\n\n\n\n\n\n\n\n\n\n\n\n\n\n\n\n\n\n\n\n\n\n\n\n\n\n\n\n\nLocatieBuitencentrum De WeerribbenStaatsbosbeheerHoogeweg 278376 EM Ossenzijl+31561477272weerribben@staatsbosbeheer.nlhttps://www.staatsbosbeheer.nl/ParkerenU parkeert de auto bij het Buitencentrum (P3). Vanaf daar vertrekt de rondvaartboot. \n\n\n\n\n\n\n\n\n\n\n\n\n\n\n\n\n\n\n\n\n\n\n\n\n\nParkeren is gratis. Klik op de markeringen om de locatie van De Imme en uw parkeerplaats te vinden. \n\n\n\n[I] De Imme\, Oudeweg 113\, 8376 HS Ossenzijl: – halverwege Ossenzijl en Kalenberg \n\n\n\n[P1] Kalenberg Noord 2\, 8377 HC Kalenberg – wanneer u komt overnachten (bijv. voor retraite of arrangement); vanaf daar per boot naar De Imme \n\n\n\n[P2] Hilligerspoortweg 1\, 8376 HP Ossenzijl – voor activiteiten op dezelfde dag of avond: te voet naar de Sterrenwacht (2\,3 km) \n\n\n\n[P3] Buitencentrum De Weerribben\, Hoogeweg 27\, 8376 EM Ossenzijl– voor een vaartocht met Staatsbosbeheer \n\n\n\n[P4] Dorpscentrum Kalenberg\, Kalenbergerpad 4\, 8377 HL Kalenberg– voor activiteiten op dezelfde dag of avond: te voet naar de Sterrenwacht (2\,3 km)
URL:https://www.weerribben.eu/event/vaartocht-naar-sterrenwacht-de-weerribben-260422/
LOCATION:De Imme (Sterrenwacht de Weerribben)
CATEGORIES:Evenementen met Staatsbosbeheer,Maantochten,Sterrenwacht
ATTACH;FMTTYPE=image/jpeg:https://www.weerribben.eu/wp-content/uploads/2015/09/SAM_27181-624x416.jpg
ORGANIZER;CN="Wim Liesker":MAILTO:wim.liesker@weerribben.eu
END:VEVENT
BEGIN:VEVENT
DTSTART;TZID=Europe/Amsterdam:20260819T193000
DTEND;TZID=Europe/Amsterdam:20260819T220000
DTSTAMP:20260422T133837
CREATED:20251104T175256Z
LAST-MODIFIED:20260417T182027Z
UID:17882-1787167800-1787176800@www.weerribben.eu
SUMMARY:Vaartocht naar Sterrenwacht de Weerribben
DESCRIPTION:Staatsbosbeheer organiseert i.s.m. Sterrenwacht de Weerribben een nieuw evenement: de Maantochten. Nieuwe maan\, eerste kwartier\, volle maan\, laatste kwartier. De maan – of althans het door de zon verlichte oppervlak ervan dat zichtbaar is vanaf de aarde – sterk verschilt van moment tot moment. Dat heeft alles te maken met de maancyclus en de daarbij behorende maanfasen. De beleving van een boottocht door de Weerribben is bij de verschillende maanfasen steeds weer anders.  \n\n\n\n\n\n\n\n\n\n\n\n\n\n\n\n\n\n\n\n\n\n\n\n\n\n\n\n\nLees meer\n\n\n\n\n\n\n\n\n\n\n\n\n\n\n\nBoeken bij Staatsbosbeheer\n\n\n\n\n\n\n\n\n\n\n\n\n\n\n\n\n\n\n\n\n\n\n\n\n\n\n\n\nLocatieBuitencentrum De WeerribbenStaatsbosbeheerHoogeweg 278376 EM Ossenzijl+31561477272weerribben@staatsbosbeheer.nlhttps://www.staatsbosbeheer.nl/ParkerenU parkeert de auto bij het Buitencentrum (P3). Vanaf daar vertrekt de rondvaartboot. \n\n\n\n\n\n\n\n\n\n\n\n\n\n\n\n\n\n\n\n\n\n\n\n\n\nParkeren is gratis. Klik op de markeringen om de locatie van De Imme en uw parkeerplaats te vinden. \n\n\n\n[I] De Imme\, Oudeweg 113\, 8376 HS Ossenzijl: – halverwege Ossenzijl en Kalenberg \n\n\n\n[P1] Kalenberg Noord 2\, 8377 HC Kalenberg – wanneer u komt overnachten (bijv. voor retraite of arrangement); vanaf daar per boot naar De Imme \n\n\n\n[P2] Hilligerspoortweg 1\, 8376 HP Ossenzijl – voor activiteiten op dezelfde dag of avond: te voet naar de Sterrenwacht (2\,3 km) \n\n\n\n[P3] Buitencentrum De Weerribben\, Hoogeweg 27\, 8376 EM Ossenzijl– voor een vaartocht met Staatsbosbeheer \n\n\n\n[P4] Dorpscentrum Kalenberg\, Kalenbergerpad 4\, 8377 HL Kalenberg– voor activiteiten op dezelfde dag of avond: te voet naar de Sterrenwacht (2\,3 km)
URL:https://www.weerribben.eu/event/vaartocht-naar-sterrenwacht-de-weerribben-260819/
LOCATION:De Imme (Sterrenwacht de Weerribben)
CATEGORIES:Evenementen met Staatsbosbeheer,Maantochten,Sterrenwacht
ATTACH;FMTTYPE=image/jpeg:https://www.weerribben.eu/wp-content/uploads/2015/09/SAM_27181-624x416.jpg
ORGANIZER;CN="Wim Liesker":MAILTO:wim.liesker@weerribben.eu
END:VEVENT
BEGIN:VEVENT
DTSTART;TZID=Europe/Amsterdam:20260916T190000
DTEND;TZID=Europe/Amsterdam:20260916T213000
DTSTAMP:20260422T133837
CREATED:20251104T175732Z
LAST-MODIFIED:20251210T210226Z
UID:17884-1789585200-1789594200@www.weerribben.eu
SUMMARY:Vaartocht naar Sterrenwacht de Weerribben
DESCRIPTION:Staatsbosbeheer organiseert i.s.m. Sterrenwacht de Weerribben een nieuw evenement: de Maantochten. Nieuwe maan\, eerste kwartier\, volle maan\, laatste kwartier. De maan – of althans het door de zon verlichte oppervlak ervan dat zichtbaar is vanaf de aarde – sterk verschilt van moment tot moment. Dat heeft alles te maken met de maancyclus en de daarbij behorende maanfasen. De beleving van een boottocht door de Weerribben is bij de verschillende maanfasen steeds weer anders.  \n\n\n\n\n\n\n\n\n\n\n\n\n\n\n\n\n\n\n\n\n\n\n\n\n\n\n\n\nLees meer\n\n\n\n\n\n\n\n\n\n\n\n\n\n\n\nBoeken bij Staatsbosbeheer\n\n\n\n\n\n\n\n\n\n\n\n\n\n\n\n\n\n\n\n\n\n\n\n\n\n\n\n\nLocatieBuitencentrum De WeerribbenStaatsbosbeheerHoogeweg 278376 EM Ossenzijl+31561477272weerribben@staatsbosbeheer.nlhttps://www.staatsbosbeheer.nl/ParkerenU parkeert de auto bij het Buitencentrum (P3). Vanaf daar vertrekt de rondvaartboot. \n\n\n\n\n\n\n\n\n\n\n\n\n\n\n\n\n\n\n\n\n\n\n\n\n\nParkeren is gratis. Klik op de markeringen om de locatie van De Imme en uw parkeerplaats te vinden. \n\n\n\n[I] De Imme\, Oudeweg 113\, 8376 HS Ossenzijl: – halverwege Ossenzijl en Kalenberg \n\n\n\n[P1] Kalenberg Noord 2\, 8377 HC Kalenberg – wanneer u komt overnachten (bijv. voor retraite of arrangement); vanaf daar per boot naar De Imme \n\n\n\n[P2] Hilligerspoortweg 1\, 8376 HP Ossenzijl – voor activiteiten op dezelfde dag of avond: te voet naar de Sterrenwacht (2\,3 km) \n\n\n\n[P3] Buitencentrum De Weerribben\, Hoogeweg 27\, 8376 EM Ossenzijl– voor een vaartocht met Staatsbosbeheer \n\n\n\n[P4] Dorpscentrum Kalenberg\, Kalenbergerpad 4\, 8377 HL Kalenberg– voor activiteiten op dezelfde dag of avond: te voet naar de Sterrenwacht (2\,3 km)
URL:https://www.weerribben.eu/event/vaartocht-naar-sterrenwacht-de-weerribben-260916/
LOCATION:De Imme (Sterrenwacht de Weerribben)
CATEGORIES:Evenementen met Staatsbosbeheer,Maantochten,Sterrenwacht
ATTACH;FMTTYPE=image/jpeg:https://www.weerribben.eu/wp-content/uploads/2015/09/SAM_27181-624x416.jpg
ORGANIZER;CN="Wim Liesker":MAILTO:wim.liesker@weerribben.eu
END:VEVENT
BEGIN:VEVENT
DTSTART;TZID=Europe/Amsterdam:20261024T183000
DTEND;TZID=Europe/Amsterdam:20261024T203000
DTSTAMP:20260422T133837
CREATED:20250525T101050Z
LAST-MODIFIED:20251104T194038Z
UID:15789-1792866600-1792873800@www.weerribben.eu
SUMMARY:Nacht van de Nacht
DESCRIPTION:Varen door de natuur in het donker\, wie wil dat nu niet? Maak een tocht onder de nachtelijke hemel en stop onderweg bij sterrenwacht De Weerribben. Bij de sterrenwacht turend door een echte telescoop ga je op zoek naar de maan en de planeten. Ondertussen laat je je zintuigen prikkelen met het bijzondere nachtleven in Nationaal Park Weerribben-Wieden. Vaar je mee? \n\n\n\n\n\n\n\n\n\n\n\n\n\n\n\n\n\n\n\n\n\n\n\n\n\n\n\n\nLees meer\n\n\n\n\n\n\n\n\n\n\n\n\n\n\n\nBoeken bij Staatsbosbeheer\n\n\n\n\n\n\n\n\n\n\n\n\n\n\n\n\n\n\n\n\n\n\n\n\n\n\n\n\nLocatieBuitencentrum De WeerribbenStaatsbosbeheerHoogeweg 278376 EM Ossenzijl+31561477272weerribben@staatsbosbeheer.nlhttps://www.staatsbosbeheer.nl/ParkerenU parkeert de auto bij het Buitencentrum (P3). Vanaf daar vertrekt de rondvaartboot. \n\n\n\n\n\n\n\n\n\n\n\n\n\n\n\n\n\n\n\n\n\n\n\n\n\nParkeren is gratis. Klik op de markeringen om de locatie van De Imme en uw parkeerplaats te vinden. \n\n\n\n[I] De Imme\, Oudeweg 113\, 8376 HS Ossenzijl: – halverwege Ossenzijl en Kalenberg \n\n\n\n[P1] Kalenberg Noord 2\, 8377 HC Kalenberg – wanneer u komt overnachten (bijv. voor retraite of arrangement); vanaf daar per boot naar De Imme \n\n\n\n[P2] Hilligerspoortweg 1\, 8376 HP Ossenzijl – voor activiteiten op dezelfde dag of avond: te voet naar de Sterrenwacht (2\,3 km) \n\n\n\n[P3] Buitencentrum De Weerribben\, Hoogeweg 27\, 8376 EM Ossenzijl– voor een vaartocht met Staatsbosbeheer \n\n\n\n[P4] Dorpscentrum Kalenberg\, Kalenbergerpad 4\, 8377 HL Kalenberg– voor activiteiten op dezelfde dag of avond: te voet naar de Sterrenwacht (2\,3 km)
URL:https://www.weerribben.eu/event/nacht-van-de-nacht-261024-1/
LOCATION:De Imme (Sterrenwacht de Weerribben)
CATEGORIES:Evenementen met Staatsbosbeheer,Nacht van de Nacht,Sterrenwacht
ATTACH;FMTTYPE=image/jpeg:https://www.weerribben.eu/wp-content/uploads/2021/10/20150722_053812-scaled.jpg
END:VEVENT
BEGIN:VEVENT
DTSTART;TZID=Europe/Amsterdam:20261024T193000
DTEND;TZID=Europe/Amsterdam:20261024T213000
DTSTAMP:20260422T133837
CREATED:20251104T194028Z
LAST-MODIFIED:20260327T192816Z
UID:17893-1792870200-1792877400@www.weerribben.eu
SUMMARY:Nacht van de Nacht
DESCRIPTION:Varen door de natuur in het donker\, wie wil dat nu niet? Maak een tocht onder de nachtelijke hemel en stop onderweg bij sterrenwacht De Weerribben. Bij de sterrenwacht turend door een echte telescoop ga je op zoek naar de maan en de planeten. Ondertussen laat je je zintuigen prikkelen met het bijzondere nachtleven in Nationaal Park Weerribben-Wieden. Vaar je mee? \n\n\n\n\n\n\n\n\n\n\n\n\n\n\n\n\n\n\n\n\n\n\n\n\n\n\n\n\nLees meer\n\n\n\n\n\n\n\n\n\n\n\n\n\n\n\nBoeken bij Staatsbosbeheer\n\n\n\n\n\n\n\n\n\n\n\n\n\n\n\n\n\n\n\n\n\n\n\n\n\n\n\n\nLocatieBuitencentrum De WeerribbenStaatsbosbeheerHoogeweg 278376 EM Ossenzijl+31561477272weerribben@staatsbosbeheer.nlhttps://www.staatsbosbeheer.nl/ParkerenU parkeert de auto bij het Buitencentrum (P3). Vanaf daar vertrekt de rondvaartboot. \n\n\n\n\n\n\n\n\n\n\n\n\n\n\n\n\n\n\n\n\n\n\n\n\n\nParkeren is gratis. Klik op de markeringen om de locatie van De Imme en uw parkeerplaats te vinden. \n\n\n\n[I] De Imme\, Oudeweg 113\, 8376 HS Ossenzijl: – halverwege Ossenzijl en Kalenberg \n\n\n\n[P1] Kalenberg Noord 2\, 8377 HC Kalenberg – wanneer u komt overnachten (bijv. voor retraite of arrangement); vanaf daar per boot naar De Imme \n\n\n\n[P2] Hilligerspoortweg 1\, 8376 HP Ossenzijl – voor activiteiten op dezelfde dag of avond: te voet naar de Sterrenwacht (2\,3 km) \n\n\n\n[P3] Buitencentrum De Weerribben\, Hoogeweg 27\, 8376 EM Ossenzijl– voor een vaartocht met Staatsbosbeheer \n\n\n\n[P4] Dorpscentrum Kalenberg\, Kalenbergerpad 4\, 8377 HL Kalenberg– voor activiteiten op dezelfde dag of avond: te voet naar de Sterrenwacht (2\,3 km)
URL:https://www.weerribben.eu/event/nacht-van-de-nacht-261024-2/
LOCATION:De Imme (Sterrenwacht de Weerribben)
CATEGORIES:Evenementen met Staatsbosbeheer,Nacht van de Nacht,Sterrenwacht
ATTACH;FMTTYPE=image/jpeg:https://www.weerribben.eu/wp-content/uploads/2021/10/20150722_053812-scaled.jpg
END:VEVENT
BEGIN:VEVENT
DTSTART;TZID=Europe/Amsterdam:20261119T190000
DTEND;TZID=Europe/Amsterdam:20261119T213000
DTSTAMP:20260422T133837
CREATED:20251104T180204Z
LAST-MODIFIED:20251210T210255Z
UID:17886-1795114800-1795123800@www.weerribben.eu
SUMMARY:Vaartocht naar Sterrenwacht de Weerribben
DESCRIPTION:Staatsbosbeheer organiseert i.s.m. Sterrenwacht de Weerribben een nieuw evenement: de Maantochten. Nieuwe maan\, eerste kwartier\, volle maan\, laatste kwartier. De maan – of althans het door de zon verlichte oppervlak ervan dat zichtbaar is vanaf de aarde – sterk verschilt van moment tot moment. Dat heeft alles te maken met de maancyclus en de daarbij behorende maanfasen. De beleving van een boottocht door de Weerribben is bij de verschillende maanfasen steeds weer anders.  \n\n\n\n\n\n\n\n\n\n\n\n\n\n\n\n\n\n\n\n\n\n\n\n\n\n\n\n\nLees meer\n\n\n\n\n\n\n\n\n\n\n\n\n\n\n\nBoeken bij Staatsbosbeheer\n\n\n\n\n\n\n\n\n\n\n\n\n\n\n\n\n\n\n\n\n\n\n\n\n\n\n\n\nLocatieBuitencentrum De WeerribbenStaatsbosbeheerHoogeweg 278376 EM Ossenzijl+31561477272weerribben@staatsbosbeheer.nlhttps://www.staatsbosbeheer.nl/ParkerenU parkeert de auto bij het Buitencentrum (P3). Vanaf daar vertrekt de rondvaartboot. \n\n\n\n\n\n\n\n\n\n\n\n\n\n\n\n\n\n\n\n\n\n\n\n\n\nParkeren is gratis. Klik op de markeringen om de locatie van De Imme en uw parkeerplaats te vinden. \n\n\n\n[I] De Imme\, Oudeweg 113\, 8376 HS Ossenzijl: – halverwege Ossenzijl en Kalenberg \n\n\n\n[P1] Kalenberg Noord 2\, 8377 HC Kalenberg – wanneer u komt overnachten (bijv. voor retraite of arrangement); vanaf daar per boot naar De Imme \n\n\n\n[P2] Hilligerspoortweg 1\, 8376 HP Ossenzijl – voor activiteiten op dezelfde dag of avond: te voet naar de Sterrenwacht (2\,3 km) \n\n\n\n[P3] Buitencentrum De Weerribben\, Hoogeweg 27\, 8376 EM Ossenzijl– voor een vaartocht met Staatsbosbeheer \n\n\n\n[P4] Dorpscentrum Kalenberg\, Kalenbergerpad 4\, 8377 HL Kalenberg– voor activiteiten op dezelfde dag of avond: te voet naar de Sterrenwacht (2\,3 km)
URL:https://www.weerribben.eu/event/vaartocht-naar-sterrenwacht-de-weerribben-261119/
LOCATION:De Imme (Sterrenwacht de Weerribben)
CATEGORIES:Evenementen met Staatsbosbeheer,Maantochten,Sterrenwacht
ATTACH;FMTTYPE=image/jpeg:https://www.weerribben.eu/wp-content/uploads/2015/09/SAM_27181-624x416.jpg
ORGANIZER;CN="Wim Liesker":MAILTO:wim.liesker@weerribben.eu
END:VEVENT
BEGIN:VEVENT
DTSTART;TZID=Europe/Amsterdam:20261217T193000
DTEND;TZID=Europe/Amsterdam:20261217T220000
DTSTAMP:20260422T133837
CREATED:20251104T180712Z
LAST-MODIFIED:20251210T210325Z
UID:17890-1797535800-1797544800@www.weerribben.eu
SUMMARY:Vaartocht naar Sterrenwacht de Weerribben
DESCRIPTION:Staatsbosbeheer organiseert i.s.m. Sterrenwacht de Weerribben een nieuw evenement: de Maantochten. Nieuwe maan\, eerste kwartier\, volle maan\, laatste kwartier. De maan – of althans het door de zon verlichte oppervlak ervan dat zichtbaar is vanaf de aarde – sterk verschilt van moment tot moment. Dat heeft alles te maken met de maancyclus en de daarbij behorende maanfasen. De beleving van een boottocht door de Weerribben is bij de verschillende maanfasen steeds weer anders.  \n\n\n\n\n\n\n\n\n\n\n\n\n\n\n\n\n\n\n\n\n\n\n\n\n\n\n\n\nLees meer\n\n\n\n\n\n\n\n\n\n\n\n\n\n\n\nBoeken bij Staatsbosbeheer\n\n\n\n\n\n\n\n\n\n\n\n\n\n\n\n\n\n\n\n\n\n\n\n\n\n\n\n\nLocatieBuitencentrum De WeerribbenStaatsbosbeheerHoogeweg 278376 EM Ossenzijl+31561477272weerribben@staatsbosbeheer.nlhttps://www.staatsbosbeheer.nl/ParkerenU parkeert de auto bij het Buitencentrum (P3). Vanaf daar vertrekt de rondvaartboot. \n\n\n\n\n\n\n\n\n\n\n\n\n\n\n\n\n\n\n\n\n\n\n\n\n\nParkeren is gratis. Klik op de markeringen om de locatie van De Imme en uw parkeerplaats te vinden. \n\n\n\n[I] De Imme\, Oudeweg 113\, 8376 HS Ossenzijl: – halverwege Ossenzijl en Kalenberg \n\n\n\n[P1] Kalenberg Noord 2\, 8377 HC Kalenberg – wanneer u komt overnachten (bijv. voor retraite of arrangement); vanaf daar per boot naar De Imme \n\n\n\n[P2] Hilligerspoortweg 1\, 8376 HP Ossenzijl – voor activiteiten op dezelfde dag of avond: te voet naar de Sterrenwacht (2\,3 km) \n\n\n\n[P3] Buitencentrum De Weerribben\, Hoogeweg 27\, 8376 EM Ossenzijl– voor een vaartocht met Staatsbosbeheer \n\n\n\n[P4] Dorpscentrum Kalenberg\, Kalenbergerpad 4\, 8377 HL Kalenberg– voor activiteiten op dezelfde dag of avond: te voet naar de Sterrenwacht (2\,3 km)
URL:https://www.weerribben.eu/event/vaartocht-naar-sterrenwacht-de-weerribben-261227/
LOCATION:De Imme (Sterrenwacht de Weerribben)
CATEGORIES:Evenementen met Staatsbosbeheer,Maantochten,Sterrenwacht
ATTACH;FMTTYPE=image/jpeg:https://www.weerribben.eu/wp-content/uploads/2015/09/SAM_27181-624x416.jpg
ORGANIZER;CN="Wim Liesker":MAILTO:wim.liesker@weerribben.eu
END:VEVENT
BEGIN:VEVENT
DTSTART;TZID=Europe/Amsterdam:20271030T183000
DTEND;TZID=Europe/Amsterdam:20271030T203000
DTSTAMP:20260422T133837
CREATED:20260327T192939Z
LAST-MODIFIED:20260327T192941Z
UID:19347-1824921000-1824928200@www.weerribben.eu
SUMMARY:Nacht van de Nacht
DESCRIPTION:Varen door de natuur in het donker\, wie wil dat nu niet? Maak een tocht onder de nachtelijke hemel en stop onderweg bij sterrenwacht De Weerribben. Bij de sterrenwacht turend door een echte telescoop ga je op zoek naar de maan en de planeten. Ondertussen laat je je zintuigen prikkelen met het bijzondere nachtleven in Nationaal Park Weerribben-Wieden. Vaar je mee? \n\n\n\n\n\n\n\n\n\n\n\n\n\n\n\n\n\n\n\n\n\n\n\n\n\n\n\n\nLees meer\n\n\n\n\n\n\n\n\n\n\n\n\n\n\n\nBoeken bij Staatsbosbeheer\n\n\n\n\n\n\n\n\n\n\n\n\n\n\n\n\n\n\n\n\n\n\n\n\n\n\n\n\nLocatieBuitencentrum De WeerribbenStaatsbosbeheerHoogeweg 278376 EM Ossenzijl+31561477272weerribben@staatsbosbeheer.nlhttps://www.staatsbosbeheer.nl/ParkerenU parkeert de auto bij het Buitencentrum (P3). Vanaf daar vertrekt de rondvaartboot. \n\n\n\n\n\n\n\n\n\n\n\n\n\n\n\n\n\n\n\n\n\n\n\n\n\nParkeren is gratis. Klik op de markeringen om de locatie van De Imme en uw parkeerplaats te vinden. \n\n\n\n[I] De Imme\, Oudeweg 113\, 8376 HS Ossenzijl: – halverwege Ossenzijl en Kalenberg \n\n\n\n[P1] Kalenberg Noord 2\, 8377 HC Kalenberg – wanneer u komt overnachten (bijv. voor retraite of arrangement); vanaf daar per boot naar De Imme \n\n\n\n[P2] Hilligerspoortweg 1\, 8376 HP Ossenzijl – voor activiteiten op dezelfde dag of avond: te voet naar de Sterrenwacht (2\,3 km) \n\n\n\n[P3] Buitencentrum De Weerribben\, Hoogeweg 27\, 8376 EM Ossenzijl– voor een vaartocht met Staatsbosbeheer \n\n\n\n[P4] Dorpscentrum Kalenberg\, Kalenbergerpad 4\, 8377 HL Kalenberg– voor activiteiten op dezelfde dag of avond: te voet naar de Sterrenwacht (2\,3 km)
URL:https://www.weerribben.eu/event/nacht-van-de-nacht-271030-1/
LOCATION:De Imme (Sterrenwacht de Weerribben)
CATEGORIES:Evenementen met Staatsbosbeheer,Nacht van de Nacht,Sterrenwacht
ATTACH;FMTTYPE=image/jpeg:https://www.weerribben.eu/wp-content/uploads/2021/10/20150722_053812-scaled.jpg
END:VEVENT
BEGIN:VEVENT
DTSTART;TZID=Europe/Amsterdam:20271030T193000
DTEND;TZID=Europe/Amsterdam:20271030T213000
DTSTAMP:20260422T133837
CREATED:20260327T193415Z
LAST-MODIFIED:20260327T193418Z
UID:19351-1824924600-1824931800@www.weerribben.eu
SUMMARY:Nacht van de Nacht
DESCRIPTION:Varen door de natuur in het donker\, wie wil dat nu niet? Maak een tocht onder de nachtelijke hemel en stop onderweg bij sterrenwacht De Weerribben. Bij de sterrenwacht turend door een echte telescoop ga je op zoek naar de maan en de planeten. Ondertussen laat je je zintuigen prikkelen met het bijzondere nachtleven in Nationaal Park Weerribben-Wieden. Vaar je mee? \n\n\n\n\n\n\n\n\n\n\n\n\n\n\n\n\n\n\n\n\n\n\n\n\n\n\n\n\nLees meer\n\n\n\n\n\n\n\n\n\n\n\n\n\n\n\nBoeken bij Staatsbosbeheer\n\n\n\n\n\n\n\n\n\n\n\n\n\n\n\n\n\n\n\n\n\n\n\n\n\n\n\n\nLocatieBuitencentrum De WeerribbenStaatsbosbeheerHoogeweg 278376 EM Ossenzijl+31561477272weerribben@staatsbosbeheer.nlhttps://www.staatsbosbeheer.nl/ParkerenU parkeert de auto bij het Buitencentrum (P3). Vanaf daar vertrekt de rondvaartboot. \n\n\n\n\n\n\n\n\n\n\n\n\n\n\n\n\n\n\n\n\n\n\n\n\n\nParkeren is gratis. Klik op de markeringen om de locatie van De Imme en uw parkeerplaats te vinden. \n\n\n\n[I] De Imme\, Oudeweg 113\, 8376 HS Ossenzijl: – halverwege Ossenzijl en Kalenberg \n\n\n\n[P1] Kalenberg Noord 2\, 8377 HC Kalenberg – wanneer u komt overnachten (bijv. voor retraite of arrangement); vanaf daar per boot naar De Imme \n\n\n\n[P2] Hilligerspoortweg 1\, 8376 HP Ossenzijl – voor activiteiten op dezelfde dag of avond: te voet naar de Sterrenwacht (2\,3 km) \n\n\n\n[P3] Buitencentrum De Weerribben\, Hoogeweg 27\, 8376 EM Ossenzijl– voor een vaartocht met Staatsbosbeheer \n\n\n\n[P4] Dorpscentrum Kalenberg\, Kalenbergerpad 4\, 8377 HL Kalenberg– voor activiteiten op dezelfde dag of avond: te voet naar de Sterrenwacht (2\,3 km)
URL:https://www.weerribben.eu/event/nacht-van-de-nacht-271030-2/
LOCATION:De Imme (Sterrenwacht de Weerribben)
CATEGORIES:Evenementen met Staatsbosbeheer,Nacht van de Nacht,Sterrenwacht
ATTACH;FMTTYPE=image/jpeg:https://www.weerribben.eu/wp-content/uploads/2021/10/20150722_053812-scaled.jpg
END:VEVENT
END:VCALENDAR